BEGIN:VCALENDAR
VERSION:2.0
PRODID:-//ChamberMaster//Event Calendar 2.0//EN
METHOD:PUBLISH
X-PUBLISHED-TTL:P3D
REFRESH-INTERVAL:P3D
CALSCALE:GREGORIAN
BEGIN:VEVENT
DTSTART:20260531T180000Z
DTEND:20260531T210000Z
X-MICROSOFT-CDO-ALLDAYEVENT:FALSE
SUMMARY:Camp Monroe Open House
DESCRIPTION:Please join us at Camp Monroe for\n\nSwimming - Canoeing - Climbing\n\n\n\nMay 31st - 2-5pm at Camp Monroe\n\n\n\nHave a family fun camp day with us!\n\nDon't forget your swimsuit and towel!\n\n\n\nActivities Open:\n\nClimbing Wall\n\nPool\n\n Canoes\n\nField Games\n\n\n\nMeet Camp Staff and Tour the Property\n\n\n\nRSVP Here: https://pp.events/bAXwXyRb
X-ALT-DESC;FMTTYPE=text/html:Please join us at Camp Monroe for<br />\nSwimming - Canoeing - Climbing<br />\n<br />\nMay 31st - 2-5pm at Camp Monroe<br />\n<br />\nHave a family fun camp day with us!<br />\nDon&#39\;t forget your swimsuit and towel!<br />\n<br />\nActivities Open:<br />\nClimbing Wall<br />\nPool<br />\n&nbsp\;Canoes<br />\nField Games<br />\n<br />\nMeet Camp Staff and Tour the Property<br />\n<br />\nRSVP Here:&nbsp\;https://pp.events/bAXwXyRb
LOCATION:24501 Camp Rd\, Laurel Hill\, NC 28351
UID:e.3219.3394
SEQUENCE:3
DTSTAMP:20260424T085836Z
URL:https://www.laurinburgchamber.com/events/details/camp-monroe-open-house-3394
END:VEVENT

END:VCALENDAR
