BEGIN:VCALENDAR
VERSION:2.0
PRODID:-//ChamberMaster//Event Calendar 2.0//EN
METHOD:PUBLISH
X-PUBLISHED-TTL:P3D
REFRESH-INTERVAL:P3D
CALSCALE:GREGORIAN
BEGIN:VEVENT
DTSTART:20260521T213000Z
DTEND:20260522T000000Z
X-MICROSOFT-CDO-ALLDAYEVENT:FALSE
SUMMARY:87th Annual Awards Banquet
DESCRIPTION:Join us as we celebrate the businesses\, organizations\, volunteers\, and individuals that help our community thrive. The event will begin at 5:30pm with a reception with hors d'oeuvres\, refreshments and live entertainment with the banquet to follow. The presentation of the awards will begin at 7:00 pm. Along with the Community Service Awards\, the Chamber will present the Chamber Volunteer of the Year\, the Business of the Year and the Small Business of the Year.   Welcome Reception   Banquet   Awards Presentation
X-ALT-DESC;FMTTYPE=text/html:Join us as we celebrate the businesses\, organizations\, volunteers\, and individuals that help our community thrive. The event will begin at 5:30pm with a reception with hors d&rsquo\;oeuvres\, refreshments and live entertainment with the banquet to follow. The presentation of the awards will begin at 7:00 pm. Along with the Community Service Awards\, the Chamber will present the Chamber Volunteer of the Year\, the Business of the Year and the Small Business of the Year. &bull\; Welcome Reception &bull\; Banquet &bull\; Awards Presentation
LOCATION:The Highlands 17160 Plant Rd Laurinburg\, NC 28352
UID:e.3219.3395
SEQUENCE:3
DTSTAMP:20260423T223818Z
URL:https://www.laurinburgchamber.com/events/details/87th-annual-awards-banquet-3395
END:VEVENT

END:VCALENDAR
